BEGIN:VCALENDAR
VERSION:2.0
PRODID:-//Burlington Community Aquatic Center - ECPv6.15.20//NONSGML v1.0//EN
CALSCALE:GREGORIAN
METHOD:PUBLISH
X-ORIGINAL-URL:https://burlingtoncommunitypool.org
X-WR-CALDESC:Events for Burlington Community Aquatic Center
REFRESH-INTERVAL;VALUE=DURATION:PT1H
X-Robots-Tag:noindex
X-PUBLISHED-TTL:PT1H
BEGIN:VTIMEZONE
TZID:America/Chicago
BEGIN:DAYLIGHT
TZOFFSETFROM:-0600
TZOFFSETTO:-0500
TZNAME:CDT
DTSTART:20230312T080000
END:DAYLIGHT
BEGIN:STANDARD
TZOFFSETFROM:-0500
TZOFFSETTO:-0600
TZNAME:CST
DTSTART:20231105T070000
END:STANDARD
BEGIN:DAYLIGHT
TZOFFSETFROM:-0600
TZOFFSETTO:-0500
TZNAME:CDT
DTSTART:20240310T080000
END:DAYLIGHT
BEGIN:STANDARD
TZOFFSETFROM:-0500
TZOFFSETTO:-0600
TZNAME:CST
DTSTART:20241103T070000
END:STANDARD
BEGIN:DAYLIGHT
TZOFFSETFROM:-0600
TZOFFSETTO:-0500
TZNAME:CDT
DTSTART:20250309T080000
END:DAYLIGHT
BEGIN:STANDARD
TZOFFSETFROM:-0500
TZOFFSETTO:-0600
TZNAME:CST
DTSTART:20251102T070000
END:STANDARD
END:VTIMEZONE
BEGIN:VEVENT
DTSTART;TZID=America/Chicago:20240630T150000
DTEND;TZID=America/Chicago:20240630T160000
DTSTAMP:20260423T152601
CREATED:20240625T232952Z
LAST-MODIFIED:20240625T232952Z
UID:1318-1719759600-1719763200@burlingtoncommunitypool.org
SUMMARY:Superhero Trivia
DESCRIPTION:Will take place on our patio from 3-4 on Sunday\, June 30th!!\nTest your knowledge with us during SUPERHERO TRIVIA! \nWe will provide questions and answer sheets\n\n25 questions about various superheros\n\n\nWinner(s) will win free slushie coupons!!
URL:https://burlingtoncommunitypool.org/event/superhero-trivia/
END:VEVENT
BEGIN:VEVENT
DTSTART;TZID=America/Chicago:20240630T110000
DTEND;TZID=America/Chicago:20240630T200000
DTSTAMP:20260423T152601
CREATED:20240619T232743Z
LAST-MODIFIED:20240625T232755Z
UID:1306-1719745200-1719777600@burlingtoncommunitypool.org
SUMMARY:SUPERHERO Dress-Up
DESCRIPTION:Join us in dressing up as superheroes wearing capes and masks!\nEx: Spiderman\, Superman\, Batman (etc.)
URL:https://burlingtoncommunitypool.org/event/superhero-sunday/
END:VEVENT
BEGIN:VEVENT
DTSTART;TZID=America/Chicago:20240625T110000
DTEND;TZID=America/Chicago:20240625T190000
DTSTAMP:20260423T152601
CREATED:20240619T222323Z
LAST-MODIFIED:20240619T222323Z
UID:1304-1719313200-1719342000@burlingtoncommunitypool.org
SUMMARY:Taco Tuesday
DESCRIPTION:Join us in celebrating Taco Tuesday by ordering a walking taco or taco dog from our concessions stand!\nWalking Tacos are $7.00\nTaco Dogs are $4.75
URL:https://burlingtoncommunitypool.org/event/taco-tuesday/
END:VEVENT
BEGIN:VEVENT
DTSTART;TZID=America/Chicago:20240621T180000
DTEND;TZID=America/Chicago:20240621T200000
DTSTAMP:20260423T152601
CREATED:20240602T032244Z
LAST-MODIFIED:20240619T221955Z
UID:1261-1718992800-1719000000@burlingtoncommunitypool.org
SUMMARY:Inflatable Night (6-8pm)
DESCRIPTION:Floating obstacle course that challenges participants to climb\, balance\, and navigate on various inflatable sections without falling into the water\nFun for individuals of ALL ages and swimming abilities\n\nPuddle jumpers and life jackets are highly encouraged for struggling swimmers\n\n\nWill take place in the lap pool\, starting at the deep end then ending at the shallow end
URL:https://burlingtoncommunitypool.org/event/inflatable-night-8/
END:VEVENT
BEGIN:VEVENT
DTSTART;TZID=America/Chicago:20240620T170000
DTEND;TZID=America/Chicago:20240620T180000
DTSTAMP:20260423T152601
CREATED:20240619T221609Z
LAST-MODIFIED:20240619T221609Z
UID:1300-1718902800-1718906400@burlingtoncommunitypool.org
SUMMARY:Summer BINGO
DESCRIPTION:Summer themed bingo cards & chips will be provided\nCouple rounds of bingo with multiple winners for each round\nTaking place on our patio\nWinner will receive a free slushie coupon that can be used at our concession stand!\nFirst 100 can play!!
URL:https://burlingtoncommunitypool.org/event/summer-bingo/
END:VEVENT
BEGIN:VEVENT
DTSTART;TZID=America/Chicago:20240616T110000
DTEND;TZID=America/Chicago:20240616T190000
DTSTAMP:20260423T152601
CREATED:20240524T180433Z
LAST-MODIFIED:20240611T202729Z
UID:1249-1718535600-1718564400@burlingtoncommunitypool.org
SUMMARY:Dogs for DADS! A Father's Day Special!
DESCRIPTION:Join us on June 16th\, for discounted hot dogs for all of the dads who spend the day at the pool! \nEach dad may receive one ticket that’s good for $2 off a concession’s hotdog! These tickets may be picked up at the front desk. \nWe encourage dads to come with their best DAD Jokes!
URL:https://burlingtoncommunitypool.org/event/dogs-for-dads-a-fathers-day-special/
END:VEVENT
BEGIN:VEVENT
DTSTART;TZID=America/Chicago:20240601T110000
DTEND;TZID=America/Chicago:20240601T190000
DTSTAMP:20260423T152601
CREATED:20240524T175442Z
LAST-MODIFIED:20240524T175442Z
UID:1244-1717239600-1717268400@burlingtoncommunitypool.org
SUMMARY:Opening Day!!
DESCRIPTION:June 1st is the first day of the 2024 summer season!! Join us in kicking off a summer filled with fun!
URL:https://burlingtoncommunitypool.org/event/opening-day/
LOCATION:Burlington Community Aquatic Center
END:VEVENT
END:VCALENDAR